BEGIN:VCALENDAR
VERSION:2.0
PRODID:-//What&#039;s Up Willamette - ECPv6.15.20//NONSGML v1.0//EN
CALSCALE:GREGORIAN
METHOD:PUBLISH
X-WR-CALNAME:What&#039;s Up Willamette
X-ORIGINAL-URL:https://whatsupwillamette.com
X-WR-CALDESC:Events for What&#039;s Up Willamette
REFRESH-INTERVAL;VALUE=DURATION:PT1H
X-Robots-Tag:noindex
X-PUBLISHED-TTL:PT1H
BEGIN:VTIMEZONE
TZID:America/Los_Angeles
BEGIN:DAYLIGHT
TZOFFSETFROM:-0800
TZOFFSETTO:-0700
TZNAME:PDT
DTSTART:20250309T100000
END:DAYLIGHT
BEGIN:STANDARD
TZOFFSETFROM:-0700
TZOFFSETTO:-0800
TZNAME:PST
DTSTART:20251102T090000
END:STANDARD
BEGIN:DAYLIGHT
TZOFFSETFROM:-0800
TZOFFSETTO:-0700
TZNAME:PDT
DTSTART:20260308T100000
END:DAYLIGHT
BEGIN:STANDARD
TZOFFSETFROM:-0700
TZOFFSETTO:-0800
TZNAME:PST
DTSTART:20261101T090000
END:STANDARD
BEGIN:DAYLIGHT
TZOFFSETFROM:-0800
TZOFFSETTO:-0700
TZNAME:PDT
DTSTART:20270314T100000
END:DAYLIGHT
BEGIN:STANDARD
TZOFFSETFROM:-0700
TZOFFSETTO:-0800
TZNAME:PST
DTSTART:20271107T090000
END:STANDARD
END:VTIMEZONE
BEGIN:VEVENT
DTSTART;TZID=America/Los_Angeles:20260422T093000
DTEND;TZID=America/Los_Angeles:20260422T103000
DTSTAMP:20260422T115309
CREATED:20260203T204057Z
LAST-MODIFIED:20260203T204057Z
UID:10002410-1776850200-1776853800@whatsupwillamette.com
SUMMARY:Hora de Cuentos - "Wobbler"
DESCRIPTION:Para niños de 9 meses a 2 años y sus cuidadores. Para todos aquellos niños que tambalean y no se sienten cómodos con la Hora de Cuentos para “toddlers” pero están listos para moverse más que en la hora de Cuentos para Bebes. Ubicado en la Biblioteca Pública de McMinnville\, en la Sala Carnegie.
URL:https://whatsupwillamette.com/event/hora-de-cuentos-wobbler/2026-04-22/
LOCATION:McMinnville Public Libray\, 225 NW Adams Street\, Mcminnville\, OR\, 97128\, United States
CATEGORIES:Kid-Friendly
END:VEVENT
BEGIN:VEVENT
DTSTART;TZID=America/Los_Angeles:20260422T093000
DTEND;TZID=America/Los_Angeles:20260422T103000
DTSTAMP:20260422T115309
CREATED:20260203T204445Z
LAST-MODIFIED:20260203T204445Z
UID:10001122-1776850200-1776853800@whatsupwillamette.com
SUMMARY:Wobbler Story Time
DESCRIPTION:For children 9 mo. to 2 years old and caregivers. For any wobbling walkers not yet comfortable at Toddler Storytime but ready for more movement than Baby Storytime. Located at the McMinnville Public Library\, in the Carnegie Room.
URL:https://whatsupwillamette.com/event/wobbler-story-time/2026-04-22/
LOCATION:McMinnville Public Libray\, 225 NW Adams Street\, Mcminnville\, OR\, 97128\, United States
CATEGORIES:Kid-Friendly
END:VEVENT
BEGIN:VEVENT
DTSTART;TZID=America/Los_Angeles:20260422T103000
DTEND;TZID=America/Los_Angeles:20260422T113000
DTSTAMP:20260422T115309
CREATED:20260203T204001Z
LAST-MODIFIED:20260203T204001Z
UID:10002668-1776853800-1776857400@whatsupwillamette.com
SUMMARY:Hora de Cuentos - "Toddler"
DESCRIPTION:Para niños de 18 meses a 3 años y sus cuidadores. Una sesión llena de energía que incorpora canciones\, bailes\, libros y burbujas. Ubicado en la Biblioteca Pública de McMinnville\, en la Sala Carnegie.
URL:https://whatsupwillamette.com/event/hora-de-cuentos-toddler/2026-04-22/
LOCATION:McMinnville Public Libray\, 225 NW Adams Street\, Mcminnville\, OR\, 97128\, United States
CATEGORIES:Kid-Friendly
END:VEVENT
BEGIN:VEVENT
DTSTART;TZID=America/Los_Angeles:20260422T103000
DTEND;TZID=America/Los_Angeles:20260422T113000
DTSTAMP:20260422T115309
CREATED:20260203T204315Z
LAST-MODIFIED:20260203T204315Z
UID:10001380-1776853800-1776857400@whatsupwillamette.com
SUMMARY:Toddler Story Time
DESCRIPTION:For children 18 mo. to 3 years old and caregivers. A high-energy session incorporating songs\, dances\, books\, and bubbles. Located at the McMinnville Public Library\, in the Carnegie Room.
URL:https://whatsupwillamette.com/event/toddler-story-time/2026-04-22/
LOCATION:McMinnville Public Libray\, 225 NW Adams Street\, Mcminnville\, OR\, 97128\, United States
CATEGORIES:Kid-Friendly
END:VEVENT
BEGIN:VEVENT
DTSTART;TZID=America/Los_Angeles:20260422T173000
DTEND;TZID=America/Los_Angeles:20260422T200000
DTSTAMP:20260422T115309
CREATED:20260203T201800Z
LAST-MODIFIED:20260203T201800Z
UID:10003720-1776879000-1776888000@whatsupwillamette.com
SUMMARY:McMinnville Chess Club at Mac Market
DESCRIPTION:Wednesday evenings at Mac Market from 5:30 – 8:00pm \nMcMinnville Chess Club is for all ages and skill levels.
URL:https://whatsupwillamette.com/event/mcminnville-chess-club-at-mac-market/2026-04-22/
LOCATION:Mac Market\, 1140 NE Alpine Ave.\, Mcminnville\, OR\, 97128\, United States
CATEGORIES:Community
END:VEVENT
BEGIN:VEVENT
DTSTART;TZID=America/Los_Angeles:20260422T180000
DTEND;TZID=America/Los_Angeles:20260422T200000
DTSTAMP:20260422T115309
CREATED:20260203T191152Z
LAST-MODIFIED:20260203T191152Z
UID:10000272-1776880800-1776888000@whatsupwillamette.com
SUMMARY:Trivia Night at Stickmen Brewing Co.
DESCRIPTION:Trivia Night from 6-8pm. \nAll ages welcome. \nFood and drink available for purchase.
URL:https://whatsupwillamette.com/event/trivia-night-at-stickmen-brewing-co/2026-04-22/
LOCATION:Stickmen Brewing Company\, 1031 NE Lafayette Ave.\, Mcminnville\, OR\, 97128\, United States
CATEGORIES:Food & Drink
END:VEVENT
BEGIN:VEVENT
DTSTART;TZID=America/Los_Angeles:20260423T103000
DTEND;TZID=America/Los_Angeles:20260423T113000
DTSTAMP:20260422T115309
CREATED:20260203T203907Z
LAST-MODIFIED:20260203T203907Z
UID:10002926-1776940200-1776943800@whatsupwillamette.com
SUMMARY:Hora de Cuentos  - Bebés
DESCRIPTION:Para edades de 0 a 18 meses. Libros\, rimas\, música y movimiento\, con un tiempo de juego y socialización. Ubicado en la Biblioteca Pública de McMinnville\, en la Sala Carnegie.
URL:https://whatsupwillamette.com/event/hora-de-cuentos-bebes/2026-04-23/
LOCATION:McMinnville Public Libray\, 225 NW Adams Street\, Mcminnville\, OR\, 97128\, United States
CATEGORIES:Kid-Friendly
END:VEVENT
BEGIN:VEVENT
DTSTART;TZID=America/Los_Angeles:20260423T103000
DTEND;TZID=America/Los_Angeles:20260423T233000
DTSTAMP:20260422T115309
CREATED:20260203T204211Z
LAST-MODIFIED:20260203T204211Z
UID:10001638-1776940200-1776987000@whatsupwillamette.com
SUMMARY:Baby Story Time
DESCRIPTION:For infants 0-18 mo. and caregivers. Music\, books\, and rhymes with time to socialize. Located at the McMinnville Public Library\, in the Carnegie Room.
URL:https://whatsupwillamette.com/event/baby-story-time/2026-04-23/
LOCATION:McMinnville Public Libray\, 225 NW Adams Street\, Mcminnville\, OR\, 97128\, United States
CATEGORIES:Kid-Friendly
END:VEVENT
BEGIN:VEVENT
DTSTART;TZID=America/Los_Angeles:20260423T180000
DTEND;TZID=America/Los_Angeles:20260423T200000
DTSTAMP:20260422T115309
CREATED:20260203T183526Z
LAST-MODIFIED:20260203T183526Z
UID:10004830-1776967200-1776974400@whatsupwillamette.com
SUMMARY:Brewery Trivia Night at ForeLand Beer
DESCRIPTION:Every Thursday our bartender/quiz master Elliot hosts Brewery Trivia Night starting at 6PM. Get your team\, get paired up with one\, or play alone. Beer\, fun\, and prizes.
URL:https://whatsupwillamette.com/event/brewery-trivia-night-at-foreland-beer/2026-04-23/
LOCATION:ForeLand Beer\, 777 Northeast 4th Street\, McMinnville\, OR\, 97128\, United States
CATEGORIES:Food & Drink
END:VEVENT
BEGIN:VEVENT
DTSTART;TZID=America/Los_Angeles:20260423T180000
DTEND;TZID=America/Los_Angeles:20260423T200000
DTSTAMP:20260422T115309
CREATED:20260203T191418Z
LAST-MODIFIED:20260203T191418Z
UID:10000532-1776967200-1776974400@whatsupwillamette.com
SUMMARY:Live Music Thursdays at Stickmen Brewing Co.
DESCRIPTION:6-8pm. All ages welcome. \nFood and drink available for purchace. \nCheck Instagram/Facebook for who’s playing!
URL:https://whatsupwillamette.com/event/live-music-thursdays-at-stickmen-brewing-co/2026-04-23/
LOCATION:Stickmen Brewing Company\, 1031 NE Lafayette Ave.\, Mcminnville\, OR\, 97128\, United States
CATEGORIES:Live Music
END:VEVENT
BEGIN:VEVENT
DTSTART;TZID=America/Los_Angeles:20260423T190000
DTEND;TZID=America/Los_Angeles:20260423T220000
DTSTAMP:20260422T115309
CREATED:20260203T190411Z
LAST-MODIFIED:20260203T190411Z
UID:10003792-1776970800-1776981600@whatsupwillamette.com
SUMMARY:Open Mic at Hotel Oregon
DESCRIPTION:Hosted by Freddie Lamb. \nMcMenamins Hotel Oregon – Paragon Room \nThursdays\, 7-10pm \nAll ages welcome
URL:https://whatsupwillamette.com/event/open-mic-at-hotel-oregon/2026-04-23/
LOCATION:McMenamins Hotel Oregon\, 310 NE Evans St.\, McMinnville\, OR\, 97128\, United States
CATEGORIES:Live Music
END:VEVENT
BEGIN:VEVENT
DTSTART;TZID=America/Los_Angeles:20260423T200000
DTEND;TZID=America/Los_Angeles:20260423T230000
DTSTAMP:20260422T115309
CREATED:20260203T193125Z
LAST-MODIFIED:20260306T021226Z
UID:10006343-1776974400-1776985200@whatsupwillamette.com
SUMMARY:Open Mic at 1109 Lafayette Bar
DESCRIPTION:Hosted by Quinn Patty \nStop by to play\, or to listen to our sensational local talent. \n10-15 minute sets \nEvery Thursday 8-11pm \nAges: 21+
URL:https://whatsupwillamette.com/event/open-mic-at-1109-lafayette-bar/2026-04-23/
LOCATION:1109 Lafayette Bar\, 1109 NE Lafayette Ave\, McMinnville\, OR\, 97128\, United States
CATEGORIES:Live Music
END:VEVENT
BEGIN:VEVENT
DTSTART;TZID=America/Los_Angeles:20260424T103000
DTEND;TZID=America/Los_Angeles:20260424T113000
DTSTAMP:20260422T115309
CREATED:20260203T203708Z
LAST-MODIFIED:20260203T203708Z
UID:10001895-1777026600-1777030200@whatsupwillamette.com
SUMMARY:Bilingual Story Time / Hora de Cuentos - Bilingüe
DESCRIPTION:For children 0-5 and their caregivers. A half hour of songs\, stories\, movement and playtime in Spanish and English. You do not have to be a Spanish speaker\, all are welcome! Located at the McMinnville Public Library\, in the Carnegie Room. \nPara niños de 0 a 5 años y sus cuidadores. Media hora de canciones\, cuentos\, movimiento y juegos en español e inglés. No es necesario que sepas ingles\, ¡todos son bienvenidos! Ubicado en la Biblioteca Pública de McMinnville\, en la Sala Carnegie.
URL:https://whatsupwillamette.com/event/bilingual-story-time-hora-de-cuentos-bilingue/2026-04-24/
LOCATION:McMinnville Public Libray\, 225 NW Adams Street\, Mcminnville\, OR\, 97128\, United States
CATEGORIES:Kid-Friendly
END:VEVENT
BEGIN:VEVENT
DTSTART;TZID=America/Los_Angeles:20260424T120000
DTEND;TZID=America/Los_Angeles:20260424T133000
DTSTAMP:20260422T115309
CREATED:20260203T202007Z
LAST-MODIFIED:20260203T202007Z
UID:10003248-1777032000-1777037400@whatsupwillamette.com
SUMMARY:Clases de Inglés
DESCRIPTION:Ubicado en la Biblioteca Pública de McMinnville. \nÚnase a nosotros con un instructor de ESL de Goodwill y aprende inglés gratis como segundo idioma. Todos los niveles son bienvenidos. No es necesario registrarse.
URL:https://whatsupwillamette.com/event/clases-de-ingles/2026-04-24/
LOCATION:McMinnville Public Libray\, 225 NW Adams Street\, Mcminnville\, OR\, 97128\, United States
CATEGORIES:Classes & Workshops
END:VEVENT
BEGIN:VEVENT
DTSTART;TZID=America/Los_Angeles:20260424T193000
DTEND;TZID=America/Los_Angeles:20260424T213000
DTSTAMP:20260422T115309
CREATED:20260203T051601Z
LAST-MODIFIED:20260203T051614Z
UID:10004043-1777059000-1777066200@whatsupwillamette.com
SUMMARY:"Rosencrantz and Guildenstern Are Dead" at Gallery Theater
DESCRIPTION:April 17 – May 3 \nWinner of the 1968 Tony Award for Best Play\, Rosencrantz and Guildenstern Are Dead turns the spotlight on two minor characters from Shakespeare’s Hamlet and gives them a story of their own. As they navigate a confusing world filled with riddles\, mistaken identities\, and philosophical puzzles\, Rosencrantz and Guildenstern search for meaning while the events of Hamlet unfold around them. \nTom Stoppard’s celebrated tragicomedy is a clever\, thought-provoking journey through fate\, free will\, and the absurdity of life. With razor-sharp dialogue and a balance of humor and depth\, this modern masterpiece invites audiences to see a classic story from a whole new angle. \nAdult (18-61): $21 \nStudent (5-17): $17 \nSenior (62+): $19 \nRecommended age 11+ \nTickets at: http://www.gallerytheater.org
URL:https://whatsupwillamette.com/event/rosencrantz-and-guildenstern-are-dead-at-gallery-theater/2026-04-24/
LOCATION:Gallery Theater\, 210 NE Ford St\, McMinnville\, OR\, 97128\, United States
CATEGORIES:Arts & Culture
END:VEVENT
BEGIN:VEVENT
DTSTART;TZID=America/Los_Angeles:20260424T200000
DTEND;TZID=America/Los_Angeles:20260424T230000
DTSTAMP:20260422T115309
CREATED:20260203T181604Z
LAST-MODIFIED:20260203T181604Z
UID:10005916-1777060800-1777071600@whatsupwillamette.com
SUMMARY:"Karavino" -  Friday Karaoke at NW Cru
DESCRIPTION:Fridays and Saturdays\, 8pm – 1am \nKaraoke with wine at NW Cru!
URL:https://whatsupwillamette.com/event/karavino-friday-karaoke-at-nw-cru/2026-04-24/
LOCATION:NW Cru – Wine Bar\, 325 NE Evans St.\, McMinnville\, OR\, 97128\, United States
CATEGORIES:Live Music
END:VEVENT
BEGIN:VEVENT
DTSTART;TZID=America/Los_Angeles:20260425T100000
DTEND;TZID=America/Los_Angeles:20260425T140000
DTSTAMP:20260422T115309
CREATED:20260203T184621Z
LAST-MODIFIED:20260203T184621Z
UID:10003693-1777111200-1777125600@whatsupwillamette.com
SUMMARY:Farmer's Market at The McMinnville Grange
DESCRIPTION:Saturday Farmer’s Market. 10am-2pm. \nYear round farmer’s market! Saturdays 10AM-2PM. Local vegetables\, fruits\, herbs\, meat\, baked goods\, eggs\, honey\, wool products\, hot & frozen soup\, mushrooms\, wooden ware\, jewelry\, jams\, pickled & fermented products\, nuts\, gifts and more!
URL:https://whatsupwillamette.com/event/farmers-market-at-the-mcminnville-grange/2026-04-25/
LOCATION:McMinnville Grange\, 1700 SW Old Sheridan Rd\, Mcminnville\, OR\, 97128\, United States
CATEGORIES:Community
END:VEVENT
BEGIN:VEVENT
DTSTART;TZID=America/Los_Angeles:20260425T110000
DTEND;TZID=America/Los_Angeles:20260425T150000
DTSTAMP:20260422T115309
CREATED:20260203T183223Z
LAST-MODIFIED:20260203T183223Z
UID:10005092-1777114800-1777129200@whatsupwillamette.com
SUMMARY:Book Worm Club at Heater Allen Tap Room
DESCRIPTION:Every Saturday 11am – 3pm \nCalling all Bookworms! \nWeekly Saturday morning Silent Reading Group. No assigned reading\, no pressure\, just a quiet community of fellow book lovers. \nBring whatever is currently on your nightstand and settle in. We’ll have the coffee brewing\, mimosas chilled\, and your favorite beers in a cozy atmosphere! \n 
URL:https://whatsupwillamette.com/event/book-worm-club-at-heater-allen-tap-room/2026-04-25/
LOCATION:Heater Allen Brewery Tap Room\, 907 NE Tenth Ave\, McMinnville\, OR\, 97128\, United States
CATEGORIES:Food & Drink
END:VEVENT
BEGIN:VEVENT
DTSTART;TZID=America/Los_Angeles:20260425T120000
DTEND;TZID=America/Los_Angeles:20260425T150000
DTSTAMP:20260422T115309
CREATED:20260203T054017Z
LAST-MODIFIED:20260203T054017Z
UID:10003704-1777118400-1777129200@whatsupwillamette.com
SUMMARY:A Makerspace Lab - Fiber Arts
DESCRIPTION:Located at the Willamina Public Library \nNeedle felting\, Sashiko\, clothes mending\, and more… come on by between 12 and 3 for hands-on fun! Want to learn a new fiber craft? We can help! Open to all ages. Bring your projects or come learn something new.
URL:https://whatsupwillamette.com/event/a-makerspace-lab-fiber-arts/2026-04-25/
LOCATION:Willamina Public Library\, 382 NE C Street\, Willamina\, OR\, 97396\, United States
CATEGORIES:Community
END:VEVENT
BEGIN:VEVENT
DTSTART;TZID=America/Los_Angeles:20260425T140000
DTEND;TZID=America/Los_Angeles:20260425T150000
DTSTAMP:20260422T115309
CREATED:20260203T053556Z
LAST-MODIFIED:20260203T053556Z
UID:10003681-1777125600-1777129200@whatsupwillamette.com
SUMMARY:Line Dancing Lessons at the McMinnville Grange
DESCRIPTION:Free Line Dancing Lessons! \nFollowing the Saturday Farmers Market.
URL:https://whatsupwillamette.com/event/line-dancing-lessons-at-the-mcminnville-grange/2026-04-25/
LOCATION:McMinnville Grange\, 1700 SW Old Sheridan Rd\, Mcminnville\, OR\, 97128\, United States
CATEGORIES:Classes & Workshops
END:VEVENT
BEGIN:VEVENT
DTSTART;TZID=America/Los_Angeles:20260425T190000
DTEND;TZID=America/Los_Angeles:20260425T220000
DTSTAMP:20260422T115309
CREATED:20260203T185923Z
LAST-MODIFIED:20260203T185923Z
UID:10003816-1777143600-1777154400@whatsupwillamette.com
SUMMARY:Live DJs @ HiFi Wine Bar
DESCRIPTION:DJs spinning live\, every Saturday\, 7-10pm
URL:https://whatsupwillamette.com/event/live-djs-hifi-wine-bar/2026-04-25/
LOCATION:HiFi Wine Bar\, 711 NE Third St.\, McMinnville\, OR\, 97128\, United States
CATEGORIES:Live Music
END:VEVENT
BEGIN:VEVENT
DTSTART;TZID=America/Los_Angeles:20260425T193000
DTEND;TZID=America/Los_Angeles:20260425T213000
DTSTAMP:20260422T115309
CREATED:20260203T051601Z
LAST-MODIFIED:20260203T051614Z
UID:10004044-1777145400-1777152600@whatsupwillamette.com
SUMMARY:"Rosencrantz and Guildenstern Are Dead" at Gallery Theater
DESCRIPTION:April 17 – May 3 \nWinner of the 1968 Tony Award for Best Play\, Rosencrantz and Guildenstern Are Dead turns the spotlight on two minor characters from Shakespeare’s Hamlet and gives them a story of their own. As they navigate a confusing world filled with riddles\, mistaken identities\, and philosophical puzzles\, Rosencrantz and Guildenstern search for meaning while the events of Hamlet unfold around them. \nTom Stoppard’s celebrated tragicomedy is a clever\, thought-provoking journey through fate\, free will\, and the absurdity of life. With razor-sharp dialogue and a balance of humor and depth\, this modern masterpiece invites audiences to see a classic story from a whole new angle. \nAdult (18-61): $21 \nStudent (5-17): $17 \nSenior (62+): $19 \nRecommended age 11+ \nTickets at: http://www.gallerytheater.org
URL:https://whatsupwillamette.com/event/rosencrantz-and-guildenstern-are-dead-at-gallery-theater/2026-04-25/
LOCATION:Gallery Theater\, 210 NE Ford St\, McMinnville\, OR\, 97128\, United States
CATEGORIES:Arts & Culture
END:VEVENT
BEGIN:VEVENT
DTSTART;TZID=America/Los_Angeles:20260425T200000
DTEND;TZID=America/Los_Angeles:20260425T200000
DTSTAMP:20260422T115309
CREATED:20260203T201649Z
LAST-MODIFIED:20260203T201649Z
UID:10005979-1777147200-1777147200@whatsupwillamette.com
SUMMARY:Karaoke @ Fireside Tavern
DESCRIPTION:Karaoke every Saturday at Fireside Tavern in Yamhill. \nSaturdays\, 8-midnight.
URL:https://whatsupwillamette.com/event/karaoke-fireside-tavern/2026-04-25/
LOCATION:Fireside Tavern\, 195 W Main St\, Yamhill\, OR\, 97148\, United States
CATEGORIES:Live Music
END:VEVENT
BEGIN:VEVENT
DTSTART;TZID=America/Los_Angeles:20260425T200000
DTEND;TZID=America/Los_Angeles:20260425T230000
DTSTAMP:20260422T115309
CREATED:20260203T181417Z
LAST-MODIFIED:20260203T181417Z
UID:10003927-1777147200-1777158000@whatsupwillamette.com
SUMMARY:"Karavino" -  Saturday Karaoke at NW Cru
DESCRIPTION:Fridays and Saturdays\, 8pm – 1am \nKaraoke with wine!
URL:https://whatsupwillamette.com/event/karavino-saturday-karaoke-at-nw-cru/2026-04-25/
LOCATION:NW Cru – Wine Bar\, 325 NE Evans St.\, McMinnville\, OR\, 97128\, United States
CATEGORIES:Live Music
END:VEVENT
BEGIN:VEVENT
DTSTART;TZID=America/Los_Angeles:20260426T140000
DTEND;TZID=America/Los_Angeles:20260426T160000
DTSTAMP:20260422T115309
CREATED:20260203T051601Z
LAST-MODIFIED:20260203T051614Z
UID:10004045-1777212000-1777219200@whatsupwillamette.com
SUMMARY:"Rosencrantz and Guildenstern Are Dead" at Gallery Theater
DESCRIPTION:April 17 – May 3 \nWinner of the 1968 Tony Award for Best Play\, Rosencrantz and Guildenstern Are Dead turns the spotlight on two minor characters from Shakespeare’s Hamlet and gives them a story of their own. As they navigate a confusing world filled with riddles\, mistaken identities\, and philosophical puzzles\, Rosencrantz and Guildenstern search for meaning while the events of Hamlet unfold around them. \nTom Stoppard’s celebrated tragicomedy is a clever\, thought-provoking journey through fate\, free will\, and the absurdity of life. With razor-sharp dialogue and a balance of humor and depth\, this modern masterpiece invites audiences to see a classic story from a whole new angle. \nAdult (18-61): $21 \nStudent (5-17): $17 \nSenior (62+): $19 \nRecommended age 11+ \nTickets at: http://www.gallerytheater.org
URL:https://whatsupwillamette.com/event/rosencrantz-and-guildenstern-are-dead-at-gallery-theater/2026-04-26/
LOCATION:Gallery Theater\, 210 NE Ford St\, McMinnville\, OR\, 97128\, United States
CATEGORIES:Arts & Culture
END:VEVENT
BEGIN:VEVENT
DTSTART;TZID=America/Los_Angeles:20260426T150000
DTEND;TZID=America/Los_Angeles:20260426T190000
DTSTAMP:20260422T115309
CREATED:20260203T071350Z
LAST-MODIFIED:20260203T071350Z
UID:10005354-1777215600-1777230000@whatsupwillamette.com
SUMMARY:Game Night at Heater Allen Tap Room
DESCRIPTION:Sundays 3pm-7pm. \nJoin us for a night of games! Bring your handhelds or a board game to share. \nHosted by Serafina.
URL:https://whatsupwillamette.com/event/game-night-at-heater-allen-tap-room/2026-04-26/
LOCATION:Heater Allen Brewery Tap Room\, 907 NE Tenth Ave\, McMinnville\, OR\, 97128\, United States
CATEGORIES:Food & Drink
END:VEVENT
BEGIN:VEVENT
DTSTART;TZID=America/Los_Angeles:20260426T170000
DTEND;TZID=America/Los_Angeles:20260426T200000
DTSTAMP:20260422T115309
CREATED:20260206T163404Z
LAST-MODIFIED:20260206T163404Z
UID:10006075-1777222800-1777233600@whatsupwillamette.com
SUMMARY:Open Mic at the Wildwood Hotel
DESCRIPTION:Come play or listen to our amazing local talent! \nFood and Drinks available for purchase. \nLocated in the Lounge. \n5-8pm \nEvery Sunday.
URL:https://whatsupwillamette.com/event/open-mic-at-the-wildwood-hotel/2026-04-26/
LOCATION:Wildwood Hotel\, Lounge and Restaurant\, 150 NE Main St.\, Willamina\, OR\, 97396\, United States
CATEGORIES:Live Music
END:VEVENT
BEGIN:VEVENT
DTSTART;TZID=America/Los_Angeles:20260427T180000
DTEND;TZID=America/Los_Angeles:20260427T200000
DTSTAMP:20260422T115309
CREATED:20260203T191305Z
LAST-MODIFIED:20260203T191305Z
UID:10000013-1777312800-1777320000@whatsupwillamette.com
SUMMARY:Bingo Night at Stickmen Brewing Co.
DESCRIPTION:Bingo starts at 6. \nAll ages welcome. \nFood and drinks available for purchase.
URL:https://whatsupwillamette.com/event/bingo-night-at-stickmen-brewing-co/2026-04-27/
LOCATION:Stickmen Brewing Company\, 1031 NE Lafayette Ave.\, Mcminnville\, OR\, 97128\, United States
CATEGORIES:Food & Drink
END:VEVENT
BEGIN:VEVENT
DTSTART;TZID=America/Los_Angeles:20260428T103000
DTEND;TZID=America/Los_Angeles:20260428T113000
DTSTAMP:20260422T115309
CREATED:20260203T203818Z
LAST-MODIFIED:20260203T203818Z
UID:10002153-1777372200-1777375800@whatsupwillamette.com
SUMMARY:Hora de Cuentos - Preescolar
DESCRIPTION:Para edades de 3 a 5 años. Cuentos\, rimas y canciones con una manualidad al final. Para niños que pueden permanecer sentados escuchando cuentos más largos para desarrollar habilidades de prelectura. Ubicado en la Biblioteca Pública de McMinnville\, en la Sala Carnegie.
URL:https://whatsupwillamette.com/event/hora-de-cuentos-preescolar/2026-04-28/
LOCATION:McMinnville Public Libray\, 225 NW Adams Street\, Mcminnville\, OR\, 97128\, United States
CATEGORIES:Kid-Friendly
END:VEVENT
BEGIN:VEVENT
DTSTART;TZID=America/Los_Angeles:20260428T103000
DTEND;TZID=America/Los_Angeles:20260428T113000
DTSTAMP:20260422T115309
CREATED:20260203T204555Z
LAST-MODIFIED:20260203T204555Z
UID:10000865-1777372200-1777375800@whatsupwillamette.com
SUMMARY:Preschool Story Time
DESCRIPTION:For children 3-5 yrs old and caregivers. Songs\, rhymes\, and books followed by a craft. For children who can sit still for longer stories to develop pre-reading skills. Located at the McMinnville Public Library\, in the Carnegie Room.
URL:https://whatsupwillamette.com/event/preschool-story-time/2026-04-28/
LOCATION:McMinnville Public Libray\, 225 NW Adams Street\, Mcminnville\, OR\, 97128\, United States
CATEGORIES:Kid-Friendly
END:VEVENT
END:VCALENDAR